BEGIN:VCALENDAR
VERSION:2.0
PRODID:-//Northern Beaches Christian School - ECPv4.6.26.1//NONSGML v1.0//EN
CALSCALE:GREGORIAN
METHOD:PUBLISH
X-WR-CALNAME:Northern Beaches Christian School
X-ORIGINAL-URL:https://www.nbcs.nsw.edu.au
X-WR-CALDESC:Events for Northern Beaches Christian School
BEGIN:VEVENT
DTSTART;TZID=Australia/Sydney:20190301T083000
DTEND;TZID=Australia/Sydney:20190301T160000
DTSTAMP:20190301T024545
CREATED:20181211T024011Z
LAST-MODIFIED:20181211T024309Z
UID:5854-1551429000-1551456000@www.nbcs.nsw.edu.au
SUMMARY:Primary Zone Swimming Carnival
DESCRIPTION:
URL:https://www.nbcs.nsw.edu.au/event/primary-zone-swimming-carnival/
LOCATION:Northern Beaches Christian School\, 1 Echunga Road\, Terrey Hills\, NSW\, 2084\, Australia
GEO:-33.6736499;151.2013663
X-APPLE-STRUCTURED-LOCATION;VALUE=URI;X-ADDRESS=Northern Beaches Christian School 1 Echunga Road Terrey Hills NSW 2084 Australia;X-APPLE-RADIUS=500;X-TITLE=1 Echunga Road:geo:151.2013663,-33.6736499
CATEGORIES:Parent Calendar
END:VEVENT
BEGIN:VEVENT
DTSTART;VALUE=DATE:20190304
DTEND;VALUE=DATE:20190312
DTSTAMP:20190301T024545
CREATED:20190225T233523Z
LAST-MODIFIED:20190225T233523Z
UID:6597-1551657600-1552348799@www.nbcs.nsw.edu.au
SUMMARY:UNIS UN Conference
DESCRIPTION:
URL:https://www.nbcs.nsw.edu.au/event/unis-un-conference/
LOCATION:Northern Beaches Christian School\, 1 Echunga Road\, Terrey Hills\, NSW\, 2084\, Australia
GEO:-33.6736499;151.2013663
X-APPLE-STRUCTURED-LOCATION;VALUE=URI;X-ADDRESS=Northern Beaches Christian School 1 Echunga Road Terrey Hills NSW 2084 Australia;X-APPLE-RADIUS=500;X-TITLE=1 Echunga Road:geo:151.2013663,-33.6736499
CATEGORIES:Parent Calendar
END:VEVENT
BEGIN:VEVENT
DTSTART;TZID=Australia/Sydney:20190306T091500
DTEND;TZID=Australia/Sydney:20190306T101500
DTSTAMP:20190301T024545
CREATED:20190205T043701Z
LAST-MODIFIED:20190207T052844Z
UID:5988-1551863700-1551867300@www.nbcs.nsw.edu.au
SUMMARY:Primary School Tour - March 6th
DESCRIPTION:Please register the number of adults attending the tour. Please note that these tours are for future enrolments only. \n
URL:https://www.nbcs.nsw.edu.au/event/primary-school-tour-march-6th/
LOCATION:Northern Beaches Christian School\, 1 Echunga Road\, Terrey Hills\, NSW\, 2084\, Australia
GEO:-33.6736499;151.2013663
X-APPLE-STRUCTURED-LOCATION;VALUE=URI;X-ADDRESS=Northern Beaches Christian School 1 Echunga Road Terrey Hills NSW 2084 Australia;X-APPLE-RADIUS=500;X-TITLE=1 Echunga Road:geo:151.2013663,-33.6736499
CATEGORIES:Primary School Tours
ATTACH;FMTTYPE=image/jpeg:https://www.nbcs.nsw.edu.au/wp-content/uploads/nbcs-tour-page-header.jpg
END:VEVENT
BEGIN:VEVENT
DTSTART;TZID=Australia/Sydney:20190312T080000
DTEND;TZID=Australia/Sydney:20190312T170000
DTSTAMP:20190301T024545
CREATED:20190225T234121Z
LAST-MODIFIED:20190225T234121Z
UID:6599-1552377600-1552410000@www.nbcs.nsw.edu.au
SUMMARY:Year 11/12 Drama Incursion
DESCRIPTION:
URL:https://www.nbcs.nsw.edu.au/event/year-11-12-drama-incursion/
LOCATION:Northern Beaches Christian School\, 1 Echunga Road\, Terrey Hills\, NSW\, 2084\, Australia
GEO:-33.6736499;151.2013663
X-APPLE-STRUCTURED-LOCATION;VALUE=URI;X-ADDRESS=Northern Beaches Christian School 1 Echunga Road Terrey Hills NSW 2084 Australia;X-APPLE-RADIUS=500;X-TITLE=1 Echunga Road:geo:151.2013663,-33.6736499
CATEGORIES:Parent Calendar
END:VEVENT
BEGIN:VEVENT
DTSTART;TZID=Australia/Sydney:20190312T091500
DTEND;TZID=Australia/Sydney:20190312T101500
DTSTAMP:20190301T024545
CREATED:20190205T043704Z
LAST-MODIFIED:20190207T052849Z
UID:5987-1552382100-1552385700@www.nbcs.nsw.edu.au
SUMMARY:Primary School Tour - March 12th
DESCRIPTION:Please register the number of adults attending the tour. Please note that these tours are for future enrolments only. \n
URL:https://www.nbcs.nsw.edu.au/event/primary-school-tour-march-12th/
LOCATION:Northern Beaches Christian School\, 1 Echunga Road\, Terrey Hills\, NSW\, 2084\, Australia
GEO:-33.6736499;151.2013663
X-APPLE-STRUCTURED-LOCATION;VALUE=URI;X-ADDRESS=Northern Beaches Christian School 1 Echunga Road Terrey Hills NSW 2084 Australia;X-APPLE-RADIUS=500;X-TITLE=1 Echunga Road:geo:151.2013663,-33.6736499
CATEGORIES:Primary School Tours
ATTACH;FMTTYPE=image/jpeg:https://www.nbcs.nsw.edu.au/wp-content/uploads/nbcs-tour-page-header.jpg
END:VEVENT
BEGIN:VEVENT
DTSTART;TZID=Australia/Sydney:20190313T080000
DTEND;TZID=Australia/Sydney:20190313T170000
DTSTAMP:20190301T024545
CREATED:20181211T024429Z
LAST-MODIFIED:20181211T024429Z
UID:5856-1552464000-1552496400@www.nbcs.nsw.edu.au
SUMMARY:Year 5 Camp Galston
DESCRIPTION:
URL:https://www.nbcs.nsw.edu.au/event/year-5-camp-galston/
LOCATION:Northern Beaches Christian School\, 1 Echunga Road\, Terrey Hills\, NSW\, 2084\, Australia
GEO:-33.6736499;151.2013663
X-APPLE-STRUCTURED-LOCATION;VALUE=URI;X-ADDRESS=Northern Beaches Christian School 1 Echunga Road Terrey Hills NSW 2084 Australia;X-APPLE-RADIUS=500;X-TITLE=1 Echunga Road:geo:151.2013663,-33.6736499
CATEGORIES:Parent Calendar
END:VEVENT
BEGIN:VEVENT
DTSTART;TZID=Australia/Sydney:20190314T080000
DTEND;TZID=Australia/Sydney:20190314T170000
DTSTAMP:20190301T024545
CREATED:20181211T024643Z
LAST-MODIFIED:20181211T024643Z
UID:5858-1552550400-1552582800@www.nbcs.nsw.edu.au
SUMMARY:Year 5 Camp Galston
DESCRIPTION:
URL:https://www.nbcs.nsw.edu.au/event/year-5-camp-galston-2/
LOCATION:Northern Beaches Christian School\, 1 Echunga Road\, Terrey Hills\, NSW\, 2084\, Australia
GEO:-33.6736499;151.2013663
X-APPLE-STRUCTURED-LOCATION;VALUE=URI;X-ADDRESS=Northern Beaches Christian School 1 Echunga Road Terrey Hills NSW 2084 Australia;X-APPLE-RADIUS=500;X-TITLE=1 Echunga Road:geo:151.2013663,-33.6736499
CATEGORIES:Parent Calendar
END:VEVENT
BEGIN:VEVENT
DTSTART;TZID=Australia/Sydney:20190314T080000
DTEND;TZID=Australia/Sydney:20190314T170000
DTSTAMP:20190301T024545
CREATED:20190225T234359Z
LAST-MODIFIED:20190225T234359Z
UID:6601-1552550400-1552582800@www.nbcs.nsw.edu.au
SUMMARY:Year 8 Brainstorm Productions
DESCRIPTION:
URL:https://www.nbcs.nsw.edu.au/event/year-8-brainstorm-productions/
LOCATION:Northern Beaches Christian School\, 1 Echunga Road\, Terrey Hills\, NSW\, 2084\, Australia
GEO:-33.6736499;151.2013663
X-APPLE-STRUCTURED-LOCATION;VALUE=URI;X-ADDRESS=Northern Beaches Christian School 1 Echunga Road Terrey Hills NSW 2084 Australia;X-APPLE-RADIUS=500;X-TITLE=1 Echunga Road:geo:151.2013663,-33.6736499
CATEGORIES:Parent Calendar
END:VEVENT
BEGIN:VEVENT
DTSTART;TZID=Australia/Sydney:20190314T153000
DTEND;TZID=Australia/Sydney:20190314T203000
DTSTAMP:20190301T024545
CREATED:20190221T222000Z
LAST-MODIFIED:20190225T232324Z
UID:6461-1552577400-1552595400@www.nbcs.nsw.edu.au
SUMMARY:Year 11 Student Progress Meetings (SPMs)
DESCRIPTION:
URL:https://www.nbcs.nsw.edu.au/event/year-11-spms/
LOCATION:Northern Beaches Christian School\, 1 Echunga Road\, Terrey Hills\, NSW\, 2084\, Australia
GEO:-33.6736499;151.2013663
X-APPLE-STRUCTURED-LOCATION;VALUE=URI;X-ADDRESS=Northern Beaches Christian School 1 Echunga Road Terrey Hills NSW 2084 Australia;X-APPLE-RADIUS=500;X-TITLE=1 Echunga Road:geo:151.2013663,-33.6736499
CATEGORIES:Parent Calendar
END:VEVENT
BEGIN:VEVENT
DTSTART;TZID=Australia/Sydney:20190315T080000
DTEND;TZID=Australia/Sydney:20190315T150000
DTSTAMP:20190301T024545
CREATED:20181211T024853Z
LAST-MODIFIED:20181211T024853Z
UID:5860-1552636800-1552662000@www.nbcs.nsw.edu.au
SUMMARY:Year 5 Camp Galston
DESCRIPTION:
URL:https://www.nbcs.nsw.edu.au/event/year-5-camp-galston-3/
LOCATION:Northern Beaches Christian School\, 1 Echunga Road\, Terrey Hills\, NSW\, 2084\, Australia
GEO:-33.6736499;151.2013663
X-APPLE-STRUCTURED-LOCATION;VALUE=URI;X-ADDRESS=Northern Beaches Christian School 1 Echunga Road Terrey Hills NSW 2084 Australia;X-APPLE-RADIUS=500;X-TITLE=1 Echunga Road:geo:151.2013663,-33.6736499
CATEGORIES:Parent Calendar
END:VEVENT
BEGIN:VEVENT
DTSTART;TZID=Australia/Sydney:20190315T091500
DTEND;TZID=Australia/Sydney:20190315T101500
DTSTAMP:20190301T024545
CREATED:20190205T050441Z
LAST-MODIFIED:20190207T052938Z
UID:6003-1552641300-1552644900@www.nbcs.nsw.edu.au
SUMMARY:Secondary School Tour - March 15th
DESCRIPTION:Please register the number of adults attending the tour. Please note that these tours are for future enrolments only. \n
URL:https://www.nbcs.nsw.edu.au/event/secondary-school-tour-march-15th/
LOCATION:Northern Beaches Christian School\, 1 Echunga Road\, Terrey Hills\, NSW\, 2084\, Australia
GEO:-33.6736499;151.2013663
X-APPLE-STRUCTURED-LOCATION;VALUE=URI;X-ADDRESS=Northern Beaches Christian School 1 Echunga Road Terrey Hills NSW 2084 Australia;X-APPLE-RADIUS=500;X-TITLE=1 Echunga Road:geo:151.2013663,-33.6736499
CATEGORIES:Secondary School Tours
ATTACH;FMTTYPE=image/jpeg:https://www.nbcs.nsw.edu.au/wp-content/uploads/nbcs-our-community-page-image.jpg
END:VEVENT
BEGIN:VEVENT
DTSTART;TZID=Australia/Sydney:20190318T091500
DTEND;TZID=Australia/Sydney:20190318T101500
DTSTAMP:20190301T024545
CREATED:20190205T050450Z
LAST-MODIFIED:20190207T053000Z
UID:6002-1552900500-1552904100@www.nbcs.nsw.edu.au
SUMMARY:Secondary School Tour - March 18th
DESCRIPTION:Please register the number of adults attending the tour. Please note that these tours are for future enrolments only. \n
URL:https://www.nbcs.nsw.edu.au/event/secondary-school-tour-march-18th/
LOCATION:Northern Beaches Christian School\, 1 Echunga Road\, Terrey Hills\, NSW\, 2084\, Australia
GEO:-33.6736499;151.2013663
X-APPLE-STRUCTURED-LOCATION;VALUE=URI;X-ADDRESS=Northern Beaches Christian School 1 Echunga Road Terrey Hills NSW 2084 Australia;X-APPLE-RADIUS=500;X-TITLE=1 Echunga Road:geo:151.2013663,-33.6736499
CATEGORIES:Secondary School Tours
ATTACH;FMTTYPE=image/jpeg:https://www.nbcs.nsw.edu.au/wp-content/uploads/nbcs-our-community-page-image.jpg
END:VEVENT
BEGIN:VEVENT
DTSTART;TZID=Australia/Sydney:20190320T091500
DTEND;TZID=Australia/Sydney:20190320T101500
DTSTAMP:20190301T024545
CREATED:20190205T043707Z
LAST-MODIFIED:20190207T052852Z
UID:5985-1553073300-1553076900@www.nbcs.nsw.edu.au
SUMMARY:Primary School Tour - March 20th
DESCRIPTION:Please register the number of adults attending the tour. Please note that these tours are for future enrolments only. \n
URL:https://www.nbcs.nsw.edu.au/event/primary-school-tour-march-20th/
LOCATION:Northern Beaches Christian School\, 1 Echunga Road\, Terrey Hills\, NSW\, 2084\, Australia
GEO:-33.6736499;151.2013663
X-APPLE-STRUCTURED-LOCATION;VALUE=URI;X-ADDRESS=Northern Beaches Christian School 1 Echunga Road Terrey Hills NSW 2084 Australia;X-APPLE-RADIUS=500;X-TITLE=1 Echunga Road:geo:151.2013663,-33.6736499
CATEGORIES:Primary School Tours
ATTACH;FMTTYPE=image/jpeg:https://www.nbcs.nsw.edu.au/wp-content/uploads/nbcs-tour-page-header.jpg
END:VEVENT
BEGIN:VEVENT
DTSTART;TZID=Australia/Sydney:20190321T080000
DTEND;TZID=Australia/Sydney:20190321T170000
DTSTAMP:20190301T024545
CREATED:20190225T234733Z
LAST-MODIFIED:20190225T234733Z
UID:6603-1553155200-1553187600@www.nbcs.nsw.edu.au
SUMMARY:Year 11 IPT & SDD Excursion
DESCRIPTION:
URL:https://www.nbcs.nsw.edu.au/event/year-11-ipt-sdd-excursion/
LOCATION:Northern Beaches Christian School\, 1 Echunga Road\, Terrey Hills\, NSW\, 2084\, Australia
GEO:-33.6736499;151.2013663
X-APPLE-STRUCTURED-LOCATION;VALUE=URI;X-ADDRESS=Northern Beaches Christian School 1 Echunga Road Terrey Hills NSW 2084 Australia;X-APPLE-RADIUS=500;X-TITLE=1 Echunga Road:geo:151.2013663,-33.6736499
CATEGORIES:Parent Calendar
END:VEVENT
BEGIN:VEVENT
DTSTART;TZID=Australia/Sydney:20190325T080000
DTEND;TZID=Australia/Sydney:20190327T170000
DTSTAMP:20190301T024545
CREATED:20190221T223728Z
LAST-MODIFIED:20190221T224120Z
UID:6476-1553500800-1553706000@www.nbcs.nsw.edu.au
SUMMARY:Band Camp
DESCRIPTION:
URL:https://www.nbcs.nsw.edu.au/event/band-camp/
LOCATION:Northern Beaches Christian School\, 1 Echunga Road\, Terrey Hills\, NSW\, 2084\, Australia
GEO:-33.6736499;151.2013663
X-APPLE-STRUCTURED-LOCATION;VALUE=URI;X-ADDRESS=Northern Beaches Christian School 1 Echunga Road Terrey Hills NSW 2084 Australia;X-APPLE-RADIUS=500;X-TITLE=1 Echunga Road:geo:151.2013663,-33.6736499
CATEGORIES:Parent Calendar
END:VEVENT
BEGIN:VEVENT
DTSTART;TZID=Australia/Sydney:20190325T080000
DTEND;TZID=Australia/Sydney:20190327T170000
DTSTAMP:20190301T024545
CREATED:20190225T235009Z
LAST-MODIFIED:20190225T235009Z
UID:6605-1553500800-1553706000@www.nbcs.nsw.edu.au
SUMMARY:Band Camp
DESCRIPTION:
URL:https://www.nbcs.nsw.edu.au/event/band-camp-2/
LOCATION:Northern Beaches Christian School\, 1 Echunga Road\, Terrey Hills\, NSW\, 2084\, Australia
GEO:-33.6736499;151.2013663
X-APPLE-STRUCTURED-LOCATION;VALUE=URI;X-ADDRESS=Northern Beaches Christian School 1 Echunga Road Terrey Hills NSW 2084 Australia;X-APPLE-RADIUS=500;X-TITLE=1 Echunga Road:geo:151.2013663,-33.6736499
CATEGORIES:Parent Calendar
END:VEVENT
BEGIN:VEVENT
DTSTART;TZID=Australia/Sydney:20190325T080000
DTEND;TZID=Australia/Sydney:20190325T170000
DTSTAMP:20190301T024545
CREATED:20190225T235352Z
LAST-MODIFIED:20190225T235352Z
UID:6607-1553500800-1553533200@www.nbcs.nsw.edu.au
SUMMARY:Year 9/10 Debating Competition Excursion
DESCRIPTION:
URL:https://www.nbcs.nsw.edu.au/event/year-9-10-debating-competition-excursion/
LOCATION:Northern Beaches Christian School\, 1 Echunga Road\, Terrey Hills\, NSW\, 2084\, Australia
GEO:-33.6736499;151.2013663
X-APPLE-STRUCTURED-LOCATION;VALUE=URI;X-ADDRESS=Northern Beaches Christian School 1 Echunga Road Terrey Hills NSW 2084 Australia;X-APPLE-RADIUS=500;X-TITLE=1 Echunga Road:geo:151.2013663,-33.6736499
CATEGORIES:Parent Calendar
END:VEVENT
BEGIN:VEVENT
DTSTART;TZID=Australia/Sydney:20190327T091500
DTEND;TZID=Australia/Sydney:20190327T101500
DTSTAMP:20190301T024545
CREATED:20190205T045953Z
LAST-MODIFIED:20190207T052902Z
UID:6001-1553678100-1553681700@www.nbcs.nsw.edu.au
SUMMARY:Secondary School Tour - March 27th
DESCRIPTION:Please register the number of adults attending the tour. Please note that these tours are for future enrolments only. \n
URL:https://www.nbcs.nsw.edu.au/event/secondary-school-tour-march-27th/
LOCATION:Northern Beaches Christian School\, 1 Echunga Road\, Terrey Hills\, NSW\, 2084\, Australia
GEO:-33.6736499;151.2013663
X-APPLE-STRUCTURED-LOCATION;VALUE=URI;X-ADDRESS=Northern Beaches Christian School 1 Echunga Road Terrey Hills NSW 2084 Australia;X-APPLE-RADIUS=500;X-TITLE=1 Echunga Road:geo:151.2013663,-33.6736499
CATEGORIES:Secondary School Tours
ATTACH;FMTTYPE=image/jpeg:https://www.nbcs.nsw.edu.au/wp-content/uploads/nbcs-our-community-page-image.jpg
END:VEVENT
BEGIN:VEVENT
DTSTART;TZID=Australia/Sydney:20190328T091500
DTEND;TZID=Australia/Sydney:20190328T101500
DTSTAMP:20190301T024545
CREATED:20190205T043712Z
LAST-MODIFIED:20190207T052854Z
UID:5984-1553764500-1553768100@www.nbcs.nsw.edu.au
SUMMARY:Primary School Tour - March 28th
DESCRIPTION:Please register the number of adults attending the tour. Please note that these tours are for future enrolments only. \n
URL:https://www.nbcs.nsw.edu.au/event/primary-school-tour-march-28th/
LOCATION:Northern Beaches Christian School\, 1 Echunga Road\, Terrey Hills\, NSW\, 2084\, Australia
GEO:-33.6736499;151.2013663
X-APPLE-STRUCTURED-LOCATION;VALUE=URI;X-ADDRESS=Northern Beaches Christian School 1 Echunga Road Terrey Hills NSW 2084 Australia;X-APPLE-RADIUS=500;X-TITLE=1 Echunga Road:geo:151.2013663,-33.6736499
CATEGORIES:Primary School Tours
ATTACH;FMTTYPE=image/jpeg:https://www.nbcs.nsw.edu.au/wp-content/uploads/nbcs-tour-page-header.jpg
END:VEVENT
BEGIN:VEVENT
DTSTART;VALUE=DATE:20190401
DTEND;VALUE=DATE:20190402
DTSTAMP:20190301T024545
CREATED:20190221T223838Z
LAST-MODIFIED:20190221T224053Z
UID:6478-1554076800-1554163199@www.nbcs.nsw.edu.au
SUMMARY:Secondary School Photos
DESCRIPTION:Summer Uniform \n
URL:https://www.nbcs.nsw.edu.au/event/secondary-school-photos/
LOCATION:Northern Beaches Christian School\, 1 Echunga Road\, Terrey Hills\, NSW\, 2084\, Australia
GEO:-33.6736499;151.2013663
X-APPLE-STRUCTURED-LOCATION;VALUE=URI;X-ADDRESS=Northern Beaches Christian School 1 Echunga Road Terrey Hills NSW 2084 Australia;X-APPLE-RADIUS=500;X-TITLE=1 Echunga Road:geo:151.2013663,-33.6736499
CATEGORIES:Parent Calendar
END:VEVENT
BEGIN:VEVENT
DTSTART;TZID=Australia/Sydney:20190401T080000
DTEND;TZID=Australia/Sydney:20190412T170000
DTSTAMP:20190301T024545
CREATED:20190225T235521Z
LAST-MODIFIED:20190225T235521Z
UID:6609-1554105600-1555088400@www.nbcs.nsw.edu.au
SUMMARY:Year 12 Assessment Period
DESCRIPTION:
URL:https://www.nbcs.nsw.edu.au/event/year-12-assessment-period/
LOCATION:Northern Beaches Christian School\, 1 Echunga Road\, Terrey Hills\, NSW\, 2084\, Australia
GEO:-33.6736499;151.2013663
X-APPLE-STRUCTURED-LOCATION;VALUE=URI;X-ADDRESS=Northern Beaches Christian School 1 Echunga Road Terrey Hills NSW 2084 Australia;X-APPLE-RADIUS=500;X-TITLE=1 Echunga Road:geo:151.2013663,-33.6736499
CATEGORIES:Parent Calendar
END:VEVENT
BEGIN:VEVENT
DTSTART;TZID=Australia/Sydney:20190403T090000
DTEND;TZID=Australia/Sydney:20190403T130000
DTSTAMP:20190301T024545
CREATED:20181211T025004Z
LAST-MODIFIED:20181211T035058Z
UID:5862-1554282000-1554296400@www.nbcs.nsw.edu.au
SUMMARY:Primary Cross Country
DESCRIPTION:
URL:https://www.nbcs.nsw.edu.au/event/primary-cross-country/
LOCATION:Northern Beaches Christian School\, 1 Echunga Road\, Terrey Hills\, NSW\, 2084\, Australia
GEO:-33.6736499;151.2013663
X-APPLE-STRUCTURED-LOCATION;VALUE=URI;X-ADDRESS=Northern Beaches Christian School 1 Echunga Road Terrey Hills NSW 2084 Australia;X-APPLE-RADIUS=500;X-TITLE=1 Echunga Road:geo:151.2013663,-33.6736499
CATEGORIES:Parent Calendar
END:VEVENT
BEGIN:VEVENT
DTSTART;TZID=Australia/Sydney:20190404T091500
DTEND;TZID=Australia/Sydney:20190404T101500
DTSTAMP:20190301T024545
CREATED:20190205T050006Z
LAST-MODIFIED:20190207T052906Z
UID:6008-1554369300-1554372900@www.nbcs.nsw.edu.au
SUMMARY:Secondary School Tour - April 4th
DESCRIPTION:Please register the number of adults attending the tour. Please note that these tours are for future enrolments only. \n
URL:https://www.nbcs.nsw.edu.au/event/secondary-school-tour-april-4th/
LOCATION:Northern Beaches Christian School\, 1 Echunga Road\, Terrey Hills\, NSW\, 2084\, Australia
GEO:-33.6736499;151.2013663
X-APPLE-STRUCTURED-LOCATION;VALUE=URI;X-ADDRESS=Northern Beaches Christian School 1 Echunga Road Terrey Hills NSW 2084 Australia;X-APPLE-RADIUS=500;X-TITLE=1 Echunga Road:geo:151.2013663,-33.6736499
CATEGORIES:Secondary School Tours
ATTACH;FMTTYPE=image/jpeg:https://www.nbcs.nsw.edu.au/wp-content/uploads/nbcs-our-community-page-image.jpg
END:VEVENT
BEGIN:VEVENT
DTSTART;TZID=Australia/Sydney:20190408T080000
DTEND;TZID=Australia/Sydney:20190412T170000
DTSTAMP:20190301T024545
CREATED:20190225T235725Z
LAST-MODIFIED:20190225T235725Z
UID:6611-1554710400-1555088400@www.nbcs.nsw.edu.au
SUMMARY:Musical
DESCRIPTION:
URL:https://www.nbcs.nsw.edu.au/event/musical/
LOCATION:Northern Beaches Christian School\, 1 Echunga Road\, Terrey Hills\, NSW\, 2084\, Australia
GEO:-33.6736499;151.2013663
X-APPLE-STRUCTURED-LOCATION;VALUE=URI;X-ADDRESS=Northern Beaches Christian School 1 Echunga Road Terrey Hills NSW 2084 Australia;X-APPLE-RADIUS=500;X-TITLE=1 Echunga Road:geo:151.2013663,-33.6736499
CATEGORIES:Parent Calendar
END:VEVENT
BEGIN:VEVENT
DTSTART;TZID=Australia/Sydney:20190408T091500
DTEND;TZID=Australia/Sydney:20190408T101500
DTSTAMP:20190301T024545
CREATED:20190205T050416Z
LAST-MODIFIED:20190207T052928Z
UID:6007-1554714900-1554718500@www.nbcs.nsw.edu.au
SUMMARY:Secondary School Tour - April 8th
DESCRIPTION:Please register the number of adults attending the tour. Please note that these tours are for future enrolments only. \n
URL:https://www.nbcs.nsw.edu.au/event/secondary-school-tour-april-8th/
LOCATION:Northern Beaches Christian School\, 1 Echunga Road\, Terrey Hills\, NSW\, 2084\, Australia
GEO:-33.6736499;151.2013663
X-APPLE-STRUCTURED-LOCATION;VALUE=URI;X-ADDRESS=Northern Beaches Christian School 1 Echunga Road Terrey Hills NSW 2084 Australia;X-APPLE-RADIUS=500;X-TITLE=1 Echunga Road:geo:151.2013663,-33.6736499
CATEGORIES:Secondary School Tours
ATTACH;FMTTYPE=image/jpeg:https://www.nbcs.nsw.edu.au/wp-content/uploads/nbcs-our-community-page-image.jpg
END:VEVENT
BEGIN:VEVENT
DTSTART;TZID=Australia/Sydney:20190409T091500
DTEND;TZID=Australia/Sydney:20190409T101500
DTSTAMP:20190301T024545
CREATED:20190205T043716Z
LAST-MODIFIED:20190207T052858Z
UID:5983-1554801300-1554804900@www.nbcs.nsw.edu.au
SUMMARY:Primary School Tour - April 9th
DESCRIPTION:Please register the number of adults attending the tour. Please note that these tours are for future enrolments only. \n
URL:https://www.nbcs.nsw.edu.au/event/primary-school-tour-april-9th/
LOCATION:Northern Beaches Christian School\, 1 Echunga Road\, Terrey Hills\, NSW\, 2084\, Australia
GEO:-33.6736499;151.2013663
X-APPLE-STRUCTURED-LOCATION;VALUE=URI;X-ADDRESS=Northern Beaches Christian School 1 Echunga Road Terrey Hills NSW 2084 Australia;X-APPLE-RADIUS=500;X-TITLE=1 Echunga Road:geo:151.2013663,-33.6736499
CATEGORIES:Primary School Tours
ATTACH;FMTTYPE=image/jpeg:https://www.nbcs.nsw.edu.au/wp-content/uploads/nbcs-tour-page-header.jpg
END:VEVENT
BEGIN:VEVENT
DTSTART;TZID=Australia/Sydney:20190412T080000
DTEND;TZID=Australia/Sydney:20190412T170000
DTSTAMP:20190301T024545
CREATED:20190225T235826Z
LAST-MODIFIED:20190225T235826Z
UID:6613-1555056000-1555088400@www.nbcs.nsw.edu.au
SUMMARY:Year 10/11/12 Paul Dillion Incursions
DESCRIPTION:
URL:https://www.nbcs.nsw.edu.au/event/year-10-11-12-paul-dillion-incursions/
LOCATION:Northern Beaches Christian School\, 1 Echunga Road\, Terrey Hills\, NSW\, 2084\, Australia
GEO:-33.6736499;151.2013663
X-APPLE-STRUCTURED-LOCATION;VALUE=URI;X-ADDRESS=Northern Beaches Christian School 1 Echunga Road Terrey Hills NSW 2084 Australia;X-APPLE-RADIUS=500;X-TITLE=1 Echunga Road:geo:151.2013663,-33.6736499
CATEGORIES:Parent Calendar
END:VEVENT
BEGIN:VEVENT
DTSTART;VALUE=DATE:20190413
DTEND;VALUE=DATE:20190429
DTSTAMP:20190301T024545
CREATED:20190225T232616Z
LAST-MODIFIED:20190225T232616Z
UID:6589-1555113600-1556495999@www.nbcs.nsw.edu.au
SUMMARY:School Holidays
DESCRIPTION:
URL:https://www.nbcs.nsw.edu.au/event/school-holidays/
LOCATION:Northern Beaches Christian School\, 1 Echunga Road\, Terrey Hills\, NSW\, 2084\, Australia
GEO:-33.6736499;151.2013663
X-APPLE-STRUCTURED-LOCATION;VALUE=URI;X-ADDRESS=Northern Beaches Christian School 1 Echunga Road Terrey Hills NSW 2084 Australia;X-APPLE-RADIUS=500;X-TITLE=1 Echunga Road:geo:151.2013663,-33.6736499
CATEGORIES:Parent Calendar
END:VEVENT
BEGIN:VEVENT
DTSTART;TZID=Australia/Sydney:20190430T120000
DTEND;TZID=Australia/Sydney:20190430T153000
DTSTAMP:20190301T024545
CREATED:20190221T223943Z
LAST-MODIFIED:20190221T223943Z
UID:6480-1556625600-1556638200@www.nbcs.nsw.edu.au
SUMMARY:Secondary Cross Country
DESCRIPTION:
URL:https://www.nbcs.nsw.edu.au/event/secondary-cross-country/
LOCATION:Northern Beaches Christian School\, 1 Echunga Road\, Terrey Hills\, NSW\, 2084\, Australia
GEO:-33.6736499;151.2013663
X-APPLE-STRUCTURED-LOCATION;VALUE=URI;X-ADDRESS=Northern Beaches Christian School 1 Echunga Road Terrey Hills NSW 2084 Australia;X-APPLE-RADIUS=500;X-TITLE=1 Echunga Road:geo:151.2013663,-33.6736499
CATEGORIES:Parent Calendar
END:VEVENT
BEGIN:VEVENT
DTSTART;TZID=Australia/Sydney:20190506T091500
DTEND;TZID=Australia/Sydney:20190506T101500
DTSTAMP:20190301T024545
CREATED:20190228T020654Z
LAST-MODIFIED:20190228T020654Z
UID:6690-1557134100-1557137700@www.nbcs.nsw.edu.au
SUMMARY:Primary School Tour - May 6th
DESCRIPTION:Please register the number of adults attending the tour. Please note that these tours are for future enrolments only. \n
URL:https://www.nbcs.nsw.edu.au/event/primary-school-tour-may-6th/
LOCATION:Northern Beaches Christian School\, 1 Echunga Road\, Terrey Hills\, NSW\, 2084\, Australia
GEO:-33.6736499;151.2013663
X-APPLE-STRUCTURED-LOCATION;VALUE=URI;X-ADDRESS=Northern Beaches Christian School 1 Echunga Road Terrey Hills NSW 2084 Australia;X-APPLE-RADIUS=500;X-TITLE=1 Echunga Road:geo:151.2013663,-33.6736499
CATEGORIES:Primary School Tours
ATTACH;FMTTYPE=image/jpeg:https://www.nbcs.nsw.edu.au/wp-content/uploads/nbcs-tour-page-header.jpg
END:VEVENT
END:VCALENDAR