BEGIN:VCALENDAR
VERSION:2.0
PRODID:-//Northern Beaches Christian School - ECPv6.15.17.1//NONSGML v1.0//EN
CALSCALE:GREGORIAN
METHOD:PUBLISH
X-ORIGINAL-URL:https://www.nbcs.nsw.edu.au
X-WR-CALDESC:Events for Northern Beaches Christian School
REFRESH-INTERVAL;VALUE=DURATION:PT1H
X-Robots-Tag:noindex
X-PUBLISHED-TTL:PT1H
BEGIN:VTIMEZONE
TZID:Australia/Sydney
BEGIN:STANDARD
TZOFFSETFROM:+1100
TZOFFSETTO:+1000
TZNAME:AEST
DTSTART:20240406T160000
END:STANDARD
BEGIN:DAYLIGHT
TZOFFSETFROM:+1000
TZOFFSETTO:+1100
TZNAME:AEDT
DTSTART:20241005T160000
END:DAYLIGHT
BEGIN:STANDARD
TZOFFSETFROM:+1100
TZOFFSETTO:+1000
TZNAME:AEST
DTSTART:20250405T160000
END:STANDARD
BEGIN:DAYLIGHT
TZOFFSETFROM:+1000
TZOFFSETTO:+1100
TZNAME:AEDT
DTSTART:20251004T160000
END:DAYLIGHT
BEGIN:STANDARD
TZOFFSETFROM:+1100
TZOFFSETTO:+1000
TZNAME:AEST
DTSTART:20260404T160000
END:STANDARD
BEGIN:DAYLIGHT
TZOFFSETFROM:+1000
TZOFFSETTO:+1100
TZNAME:AEDT
DTSTART:20261003T160000
END:DAYLIGHT
BEGIN:STANDARD
TZOFFSETFROM:+1100
TZOFFSETTO:+1000
TZNAME:AEST
DTSTART:20270403T160000
END:STANDARD
BEGIN:DAYLIGHT
TZOFFSETFROM:+1000
TZOFFSETTO:+1100
TZNAME:AEDT
DTSTART:20271002T160000
END:DAYLIGHT
END:VTIMEZONE
BEGIN:VEVENT
DTSTART;TZID=Australia/Sydney:20260423T083000
DTEND;TZID=Australia/Sydney:20260423T163000
DTSTAMP:20260425T112933
CREATED:20251209T014359Z
LAST-MODIFIED:20251209T014359Z
UID:10002307-1776933000-1776961800@www.nbcs.nsw.edu.au
SUMMARY:CIS Girls 16&U and 19&U Basketball Trials
DESCRIPTION:CSSA will select girls to attend the CIS 16&U and 19&U Girls Basketball Trials. CIS will then select teams to compete at the NSW All Schools Championships. \nThese trials are for representative players only. Please REGISTER HERE by 3pm Friday 27 March. CSSA/CIS does not accept late entries. There is a CSSA cost of $20 that will be billed to your Term 2 Ancillary Fees. Further fees will be incurred if selected \nFor detailed trial information please see the CIS Website. \n___________________________________________________________________________________________________________\nNB\nIf selected\, please send any communication you receive from CIS to secondarysport@nbcs.nsw.edu.au\, this will ensure we are able to support our players and ensure they have sport exemption when you are away from school training or competing. \nPlease read through the NBCS Sport Code Of Conduct before representing our school at any level.
URL:https://www.nbcs.nsw.edu.au/event/cis-girls-16u-and-19u-basketball-trials-2/
LOCATION:Hills Basketball Stadium\, Caterson Drive\, Castle Hill\, NSW\, 2154\, Australia
CATEGORIES:Secondary Basketball
END:VEVENT
BEGIN:VEVENT
DTSTART;VALUE=DATE:20260422
DTEND;VALUE=DATE:20260423
DTSTAMP:20260425T112933
CREATED:20211130T014912Z
LAST-MODIFIED:20251209T034006Z
UID:10001690-1776816000-1776902399@www.nbcs.nsw.edu.au
SUMMARY:Primary CIS Boys Rugby League Trials
DESCRIPTION:If your child plays at a representative or high level (Years 5-6 only) and would like to be considered for nomination for this trial\, please register HERE. There will be an entry fee of approximately $37.89 for CIS trials which will be billed to your ancillary fees account. If selected into the CIS Team\, students will play at the PSSA Championships. Please view the CIS website for more information about this. \n 
URL:https://www.nbcs.nsw.edu.au/event/cis-boys-rugby-league-trials-2/
LOCATION:The Kingsway Playing Fields\, The Kingsway Playing Fields\, The Kingsway\, Werrington\, NSW\, 2747\, Australia
CATEGORIES:Primary Rugby League
END:VEVENT
BEGIN:VEVENT
DTSTART;TZID=Australia/Sydney:20260402T080000
DTEND;TZID=Australia/Sydney:20260402T170000
DTSTAMP:20260425T112933
CREATED:20241105T231436Z
LAST-MODIFIED:20251211T023416Z
UID:10002275-1775116800-1775149200@www.nbcs.nsw.edu.au
SUMMARY:CIS Secondary 15&U and 19&U Girls Volleyball Trials
DESCRIPTION:CIS will be selecting a 15&U and a 19&U Girls team to be selected to play in the NSW All Schools Volleyball Quad Series. This selection process is for players of a high standard. \nPlease REGISTER HERE if you would like to be nominated by Friday 20 March 2026. CIS do not accept late entries. There is a cost of $34.07 that will be billed to your Term 1 Ancillary Fees. \nSee the CIS Website for relevant information.\nCIS 15&U Girls Trial\nCIS 19&U Girls Trial \n\nNB\nIf selected\, please send any communication you receive from CIS to secondarysport@nbcs.nsw.edu.au\, this will ensure we are able to support our players and ensure they have sport exemption when you are away from school training or competing. \nPlease read through the NBCS Sport Code Of Conduct before representing our school at any level.
URL:https://www.nbcs.nsw.edu.au/event/cis-secondary-open-girls-volleyball-trials/
LOCATION:Sydney Grammar School Edgecliff Preparatory School\, 7/11 Alma St\, Paddington\, NSW\, 2021\, Australia
CATEGORIES:Secondary Volleyball
END:VEVENT
BEGIN:VEVENT
DTSTART;TZID=Australia/Sydney:20260402T080000
DTEND;TZID=Australia/Sydney:20260402T170000
DTSTAMP:20260425T112933
CREATED:20240130T232813Z
LAST-MODIFIED:20251211T022846Z
UID:10002247-1775116800-1775149200@www.nbcs.nsw.edu.au
SUMMARY:CIS Secondary 15&U & 19&U Boys Volleyball Trials
DESCRIPTION:15&U & 19&U Boys teams to be selected to play in the NSW All Schools Volleyball Championships. This selection process is for players of a high standard. \nPlease REGISTER HERE if you would like to be nominated by Friday 20 March 2026. CIS do not accept late entries. There is a cost of $37.89 that will be billed to your Term 1 Ancillary Fees. \nSee the CIS Website for more information.\nCIS 15&U Volleyball Trials \nCIS 19&U Volleyball Trials  \n\nNB\nIf selected\, please send any communication you receive from CIS to secondarysport@nbcs.nsw.edu.au\, this will ensure we are able to support our players and ensure they have sport exemption when you are away from school training or competing. \nPlease read through the NBCS Sport Code Of Conduct before representing our school at any level.
URL:https://www.nbcs.nsw.edu.au/event/cis-secondary-15u-girls-and-boys-volleyball-trials/
LOCATION:Sydney Grammar School\, College Street\, Darlinghurst\, NSw\, 2010\, Australia
CATEGORIES:Secondary Volleyball
END:VEVENT
BEGIN:VEVENT
DTSTART;VALUE=DATE:20260330
DTEND;VALUE=DATE:20260331
DTSTAMP:20260425T112933
CREATED:20211201T014259Z
LAST-MODIFIED:20251209T033723Z
UID:10001699-1774828800-1774915199@www.nbcs.nsw.edu.au
SUMMARY:Primary CIS Boys and Girls Hockey Trials
DESCRIPTION:If your child plays at a representative or high level (Years 5-6 only) and would like to be considered for nomination for this trial\, please register HERE. There will be an entry fee of approximately $37.89 for CIS trials which will be billed to your ancillary fees account. If selected into the CIS Team\, students will play at the PSSA Championships. Please view the CIS website for more information about this. \nTeams: Year 5-6 Boys CIS Hockey Team; Year 5-6 Girls CIS Hockey Team
URL:https://www.nbcs.nsw.edu.au/event/cis-boys-and-girls-hockey-trials-year-5-6-only/
LOCATION:Pennant Hills Park\, Britannia Street\, Thornleigh\, NSW\, Australia
CATEGORIES:Primary Hockey
END:VEVENT
BEGIN:VEVENT
DTSTART;TZID=Australia/Sydney:20260318T080000
DTEND;TZID=Australia/Sydney:20260318T170000
DTSTAMP:20260425T112933
CREATED:20241105T230056Z
LAST-MODIFIED:20251209T040104Z
UID:10002273-1773820800-1773853200@www.nbcs.nsw.edu.au
SUMMARY:CIS Boys 18&U Waterpolo Trials
DESCRIPTION:CIS will be selecting a 18&U Boys Waterpolo team to attend an Exchange. \nPlease REGISTER HERE if you would like to be nominated by Friday 20 February 2025. CIS do not accept late entries. There is a cost of $37.89 that will be billed to your Term 1 Ancillary Fees. \nCIS Website – Detailed Information for the Boys \n\nNB\nThere are no school competitions available for us to enter a school team. \nIf selected\, please send any communication you receive from CIS to secondarysport@nbcs.nsw.edu.au\, this will ensure we can support our players and ensure they have sports exemption when you are away from school training or competing. \nPlease read through the NBCS Sport Code Of Conduct before representing our school at any level.
URL:https://www.nbcs.nsw.edu.au/event/cis-boys-17u-waterpolo-trials/
LOCATION:Knox Grammar School\, 7 Woodville Rd\, Wahroonga\, NSW\, 2076\, Australia
CATEGORIES:Secondary Waterpolo
END:VEVENT
BEGIN:VEVENT
DTSTART;VALUE=DATE:20260309
DTEND;VALUE=DATE:20260310
DTSTAMP:20260425T112933
CREATED:20221209T021017Z
LAST-MODIFIED:20251209T032653Z
UID:10001797-1773014400-1773100799@www.nbcs.nsw.edu.au
SUMMARY:Secondary CIS OPEN Golf Championships
DESCRIPTION:Students must be a member of a recognised Golf Club and their handicap at the time of nomination does not exceed 9 in the case of boys\, and 15 in the case of girls. If the field is too large players may be balloted based on handicap. \nMore information can be found on the CIS Website – Golf including Conditions of Play. \nPlease REGISTER HERE if you would like to participate by Friday 28 February.  Please note\, CIS does not accept late entries. \n2026 CIS nomination fee of $34.07 plus $25 (TBC) Green fees will be added to your Term 1 Ancillary Fees. \n___________________________________________________________________________________________________________\nNB\nPlease read through the NBCS Sport Code Of Conduct before representing our school at any level.
URL:https://www.nbcs.nsw.edu.au/event/cis-golf-championships-2-2/
LOCATION:Hunter Valley Golf Club\, 430 Wine Country Drive\, Lovedale\, NSW\, 2325\, Australia
CATEGORIES:Secondary Golf
END:VEVENT
BEGIN:VEVENT
DTSTART;TZID=Australia/Sydney:20260305T080000
DTEND;TZID=Australia/Sydney:20260305T170000
DTSTAMP:20260425T112933
CREATED:20241105T225124Z
LAST-MODIFIED:20251209T035833Z
UID:10002272-1772697600-1772730000@www.nbcs.nsw.edu.au
SUMMARY:CIS Girls 18&U Waterpolo Trials
DESCRIPTION:CIS will be selecting a 18&U Girls Waterpolo team. \nPlease REGISTER HERE if you would like to be nominated by Friday 20 February. CIS do not accept late entries. There is a cost of $37.89 that will be billed to your Term 1 Ancillary Fees. \nCIS Website – Detailed Information for the Girls \n\nNB\nThere are no school competitions available for us to enter a school team. \nIf selected\, please send any communication you receive from CIS to secondarysport@nbcs.nsw.edu.au\, this will ensure we can support our players and ensure they have sports exemption when you are away from school training or competing. \nPlease read through the NBCS Sport Code Of Conduct before representing our school at any level. \n 
URL:https://www.nbcs.nsw.edu.au/event/cis-girls-17u-waterpolo-trials/
LOCATION:Queenwood School\, 44 Mandolong Rd\, Mosman\, NSW\, 2088\, Australia
CATEGORIES:Secondary Waterpolo
END:VEVENT
BEGIN:VEVENT
DTSTART;VALUE=DATE:20260302
DTEND;VALUE=DATE:20260303
DTSTAMP:20260425T112933
CREATED:20211130T223245Z
LAST-MODIFIED:20251209T040651Z
UID:10002050-1772409600-1772495999@www.nbcs.nsw.edu.au
SUMMARY:Primary CSSA Boys and Girls Touch Football Trials (for CIS)
DESCRIPTION:If your child plays at a representative or high level (Years 5-6 only) and would like to be considered for nomination for this trial\, please register HERE. \nStudents will trial for the CSSA team (Monday 2 March at Bernie Mullane Sports Complex). There will be an entry fee of approximately $25 for this event which will be billed to your ancillary fees account. \nIf they are selected into either the Boys’ or Girls’ CSSA Team they will represent in that team\, where they have the opportunity to trial for the CIS Team (CIS trials – Wednesday 3 June) at The Kingsway Fields\, Werrington). There will be an entry fee of approximately $37.89 for CIS trials which will be billed to your ancillary fees account. If selected into the CIS Team\, students will play at the PSSA Championships. Please view the CIS website for more information about this. \nPlease view the CSSA website for more details about the CSSA trials. \nPlease view the CIS website for more information about the CIS trials. \nThere will be an entry fee which will be billed to your school fees account. If students make the teams\, there will be further levies and costs involved.
URL:https://www.nbcs.nsw.edu.au/event/cis-boys-and-girls-touch-football-trials-2/
LOCATION:Bernie Mullane Sports Complex\, 10 Marella Ave\, Kellyville\, NSW\, 2155\, Australia
CATEGORIES:Primary Touch Football
END:VEVENT
BEGIN:VEVENT
DTSTART;TZID=Australia/Sydney:20260223T080000
DTEND;TZID=Australia/Sydney:20260223T170000
DTSTAMP:20260425T112933
CREATED:20240130T025933Z
LAST-MODIFIED:20260129T015523Z
UID:10002238-1771833600-1771866000@www.nbcs.nsw.edu.au
SUMMARY:Secondary Softball
DESCRIPTION:OPEN Boys and Girls team to be selected to play in the NSW All Schools 18&U Girls and Boys Softball Trials\, date TBC in Blacktown\, NSW. This selection process is for players of a high standard. \nPlease REGISTER HERE if you would like to be nominated by Wednesday 11 February 2026. CIS do not accept late entries. There is a cost of $37.89 that will be billed to your Term 1 Ancillary Fees. \nCIS Website – Detailed Information for the Girls\nCIS Website – Detailed Information for the Boys \n\nNB\nThere are no school competitions available for us to enter a school team. \nIf selected\, please send any communication you receive from CIS to secondarysport@nbcs.nsw.edu.au\, this will ensure we can support our players and ensure they have sports exemption when you are away from school training or competing. \nPlease read through the NBCS Sport Code Of Conduct before representing our school at any level. \n 
URL:https://www.nbcs.nsw.edu.au/event/secondary-softball/
LOCATION:Stanhope Gardens Reserve\, Stanhope Parkway\, Stanhope Gardens\, NSW\, 2768\, Australia
CATEGORIES:Secondary Softball
END:VEVENT
BEGIN:VEVENT
DTSTART;VALUE=DATE:20260223
DTEND;VALUE=DATE:20260224
DTSTAMP:20260425T112933
CREATED:20211130T221403Z
LAST-MODIFIED:20251209T035244Z
UID:10002052-1771804800-1771891199@www.nbcs.nsw.edu.au
SUMMARY:Primary CIS Tennis Trials
DESCRIPTION:If your child plays at a representative or high level (Years 5-6 only) and would like to be considered for nomination for this trial\, please register HERE. There will be an entry fee of approximately $37.89 for CIS trials which will be billed to your ancillary fees account. If selected into the CIS Team\, students will play at the PSSA Championships. Please view the CIS website for more information about this. \nTennis trials take place at the end of year CSSA gala day for the following year’s CIS Trials. Therefore\, students are selected in 2025 for the 2026 team. Year 6 are not eligible for the primary team in the following year so selections are based on Year 5 and below.
URL:https://www.nbcs.nsw.edu.au/event/cis-tennis-trials/
LOCATION:The Kings School\, 87-129 Pennant Hills Rd\, North Parramatta\, NSW\, 2151\, Australia
CATEGORIES:Primary Tennis
END:VEVENT
BEGIN:VEVENT
DTSTART;VALUE=DATE:20260217
DTEND;VALUE=DATE:20260218
DTSTAMP:20260425T112933
CREATED:20251209T002536Z
LAST-MODIFIED:20251209T002536Z
UID:10002301-1771286400-1771372799@www.nbcs.nsw.edu.au
SUMMARY:Secondary CIS Baseball Trials
DESCRIPTION:CIS will hold trials to select an OPEN Boys team to be selected to play in the All Schools Baseball Championships. This selection process is for players of a high standard. \nPlease REGISTER HERE if you would like to be nominated by Friday 6 February 2026. CIS do not accept late entries. There is a cost of $37.89 that will be billed to your Term 1 Ancillary Fees. \nFor detailed trial information please see the CIS WEBSITE. \n__________________________________________________________________________________________________________________________________________\nNB\nThere are no school competitions available for us to enter a school team.\nPlease read through the NBCS Sport Code Of Conduct before representing our school at any level. \n 
URL:https://www.nbcs.nsw.edu.au/event/secondary-cis-baseball-trials/
LOCATION:ELS Hall Park\, 109A Kent Rd\, North Ryde\, NSW\, 2113\, Australia
CATEGORIES:Secondary Baseball
END:VEVENT
BEGIN:VEVENT
DTSTART;TZID=Australia/Sydney:20260211T100000
DTEND;TZID=Australia/Sydney:20260212T153000
DTSTAMP:20260425T112933
CREATED:20250115T005721Z
LAST-MODIFIED:20251209T020518Z
UID:10002290-1770804000-1770910200@www.nbcs.nsw.edu.au
SUMMARY:CIS 19&U Boys Cricket Trials
DESCRIPTION:CIS will be selecting a team for the 2026 NSW All Schools Championships. \nThis will take place over two days starting Wednesday 11 February.\nPlease see the CIS Website for important information. \nShould your son like to trial\, please complete the CIS Cricket Trial Nomination Form here by Friday 30 January. CIS do NOT accept late entries.
URL:https://www.nbcs.nsw.edu.au/event/cis-19u-boys-cricket-trials/
LOCATION:Cricket Central\, 121 Silverwater Rd\, Sydney Olympic Park\, NSW\, 2127\, Australia
CATEGORIES:Secondary Cricket
END:VEVENT
BEGIN:VEVENT
DTSTART;TZID=Australia/Sydney:20260210T100000
DTEND;TZID=Australia/Sydney:20260211T153000
DTSTAMP:20260425T112933
CREATED:20240909T005954Z
LAST-MODIFIED:20251209T020231Z
UID:10002261-1770717600-1770823800@www.nbcs.nsw.edu.au
SUMMARY:CIS 19&U Girls Cricket Trials
DESCRIPTION:CIS will be selecting a team for the 2026 NSW All Schools Championships. \nThis will take place over two days starting Tuesday 10 February.\nPlease see the CIS Website for important information. \nShould your daughter like to trial\, please complete the CIS Cricket Trial Nomination Form here by Friday 30 January. CIS do NOT accept late entries.
URL:https://www.nbcs.nsw.edu.au/event/cis-open-boys-cricket-trials-2/
LOCATION:Cricket Central\, 121 Silverwater Rd\, Sydney Olympic Park\, NSW\, 2127\, Australia
CATEGORIES:Secondary Cricket
END:VEVENT
BEGIN:VEVENT
DTSTART;VALUE=DATE:20250908
DTEND;VALUE=DATE:20250910
DTSTAMP:20260425T112933
CREATED:20211126T024903Z
LAST-MODIFIED:20250115T014635Z
UID:10002041-1757289600-1757462399@www.nbcs.nsw.edu.au
SUMMARY:Primary Boys CIS Cricket Trials - run over 2 days (TBC)
DESCRIPTION:If your child plays at a rep level (Year 5-6 only) and would like to be considered for nomination for this trial\, please register HERE. There will be an entry fee of approximately $34.07 for CIS trials (costs vary) which will be billed to your school fees account. If selected into the CIS Team\, students will play at the PSSA Championships. Please view the CIS website for more information about this. \nPlease note: The Boys CIS Cricket trials are TBC due to changes in the calendar at higher levels. \n 
URL:https://www.nbcs.nsw.edu.au/event/boys-cis-cricket-trials-year-5-6-run-over-2-days/
LOCATION:The Kings School\, 87-129 Pennant Hills Rd\, North Parramatta\, NSW\, 2151\, Australia
CATEGORIES:Primary Cricket
END:VEVENT
END:VCALENDAR