BEGIN:VCALENDAR
VERSION:2.0
PRODID:-//Northern Beaches Christian School - ECPv6.15.17.1//NONSGML v1.0//EN
CALSCALE:GREGORIAN
METHOD:PUBLISH
X-WR-CALNAME:Northern Beaches Christian School
X-ORIGINAL-URL:https://www.nbcs.nsw.edu.au
X-WR-CALDESC:Events for Northern Beaches Christian School
REFRESH-INTERVAL;VALUE=DURATION:PT1H
X-Robots-Tag:noindex
X-PUBLISHED-TTL:PT1H
BEGIN:VTIMEZONE
TZID:Australia/Sydney
BEGIN:STANDARD
TZOFFSETFROM:+1100
TZOFFSETTO:+1000
TZNAME:AEST
DTSTART:20250405T160000
END:STANDARD
BEGIN:DAYLIGHT
TZOFFSETFROM:+1000
TZOFFSETTO:+1100
TZNAME:AEDT
DTSTART:20251004T160000
END:DAYLIGHT
BEGIN:STANDARD
TZOFFSETFROM:+1100
TZOFFSETTO:+1000
TZNAME:AEST
DTSTART:20260404T160000
END:STANDARD
BEGIN:DAYLIGHT
TZOFFSETFROM:+1000
TZOFFSETTO:+1100
TZNAME:AEDT
DTSTART:20261003T160000
END:DAYLIGHT
BEGIN:STANDARD
TZOFFSETFROM:+1100
TZOFFSETTO:+1000
TZNAME:AEST
DTSTART:20270403T160000
END:STANDARD
BEGIN:DAYLIGHT
TZOFFSETFROM:+1000
TZOFFSETTO:+1100
TZNAME:AEDT
DTSTART:20271002T160000
END:DAYLIGHT
END:VTIMEZONE
BEGIN:VEVENT
DTSTART;VALUE=DATE:20260515
DTEND;VALUE=DATE:20260516
DTSTAMP:20260425T225011
CREATED:20211130T040546Z
LAST-MODIFIED:20251216T011416Z
UID:10002049-1778803200-1778889599@www.nbcs.nsw.edu.au
SUMMARY:Primary CSSA Boys Soccer Trials (for CIS)
DESCRIPTION:If your child plays at a representative or high level (Years 5-6 only) and would like to be considered for nomination for this trial\, please register HERE. \nStudents will trial for the CSSA team (Friday 15 May at Bernie Mullane Sports Complex). There will be an entry fee of approximately $25 for this event which will be billed to your ancillary fees account. \nIf they are selected into either the Boys’ CSSA Team they will represent in that team\, where they have the opportunity to trial for the CIS Team (CIS trials – Tuesday 23 June). There will be an entry fee of approximately $37.89 for CIS trials which will be billed to your ancillary fees account. If selected into the CIS Team\, students will play at the PSSA Championships. Please view the CIS website for more information about this. \nPlease view the CSSA website for more details about the CSSA trials. \nPlease view the CIS website for more information about the CIS trials. \nThere will be an entry fee which will be billed to your school fees account. If students make the teams\, there will be further levies and costs involved. \n 
URL:https://www.nbcs.nsw.edu.au/event/cssa-boys-soccer-trials/
LOCATION:Bernie Mullane Sports Complex\, 10 Marella Ave\, Kellyville\, NSW\, 2155\, Australia
CATEGORIES:Primary Soccer
END:VEVENT
BEGIN:VEVENT
DTSTART;VALUE=DATE:20260518
DTEND;VALUE=DATE:20260519
DTSTAMP:20260425T225011
CREATED:20211130T043423Z
LAST-MODIFIED:20251216T012916Z
UID:10002053-1779062400-1779148799@www.nbcs.nsw.edu.au
SUMMARY:Primary CSSA Zone (and State) Girls Soccer Gala Day
DESCRIPTION:NBCS can enter one Year 3-4 girls’ team and one Year 5-6 girls’ team into this event. These teams will be selected during Term 2 (TBC) during lunchtimes and will also play as part of the Term 3 PISA Girls Soccer Teams. \nTeams will play at the Zone Girls Soccer Gala Day (Monday 18 May – Epping) against CSSA North Met Zone schools. \nIf the teams come 1st at the Zone Gala Day they will qualify for the CSSA State Gala Day (Wednesday 10 June – Bernie Mullane Sports Complex). Please see the CSSA website under ‘CSSA Primary Girls State Football Finals’ for more information about the CSSA Girls Soccer Gala Day. \nThe Zone girls soccer gala day information note will be emailed to those who are selected into these teams.
URL:https://www.nbcs.nsw.edu.au/event/cssa-girls-soccer-gala-day-2/
LOCATION:West Epping Park\, Dent St\, Epping NSW 2121\, Dent St\, Epping NSW 2121\, Epping\, New South Wales\, 2121\, Australia
CATEGORIES:Primary Soccer
END:VEVENT
BEGIN:VEVENT
DTSTART;VALUE=DATE:20260529
DTEND;VALUE=DATE:20260530
DTSTAMP:20260425T225011
CREATED:20250308T114851Z
LAST-MODIFIED:20251209T024956Z
UID:10001790-1780012800-1780099199@www.nbcs.nsw.edu.au
SUMMARY:Primary and Secondary CSSA Cross Country Championships
DESCRIPTION:At the CSSA Carnival\, the Top 10 in each age group or winning School Team qualify for the CIS Cross Country Championships. \nAthletes who qualify for CIS are required to purchase the CSSA singlet on this day. \nNBCS Team – released after school carnival. \nCSSA Website – Cross Country \n  \n 
URL:https://www.nbcs.nsw.edu.au/event/cssa-cross-country-championships-2-2/
LOCATION:International Equestrian Centre\, Saxony Rd\, Horsley Park\, NSW\, 2175\, Australia
CATEGORIES:Primary Cross Country,Secondary Cross Country
END:VEVENT
BEGIN:VEVENT
DTSTART;VALUE=DATE:20260616
DTEND;VALUE=DATE:20260617
DTSTAMP:20260425T225011
CREATED:20250513T053736Z
LAST-MODIFIED:20251211T020941Z
UID:10001899-1781568000-1781654399@www.nbcs.nsw.edu.au
SUMMARY:Secondary CSSA Netball Gala Day
DESCRIPTION:NBCS will be entering a 15&U and OPEN Girls team and  an OPEN Boys Team into the CSSA Gala Day that will be held on Tuesday 16 June. \n2026 NBCS Netball Teams for CSSA Gala Day – Announced after trials. \nCSSA Netball Gala Day Draw – Coming Soon \nNBCS trial dates can be found below. \nPlease REGISTER HERE by Sunday 17 May\, you must be registered and attend the trial to be considered.\nAdditional information about the day can be found here: CSSA Website – Netball Gala Day.
URL:https://www.nbcs.nsw.edu.au/event/cssa-netball-gala-day-2-2/
LOCATION:Jamison Park Netball Courts\, York Rd\, Penrith\, NSW\, 2750\, Australia
CATEGORIES:Secondary Netball
END:VEVENT
BEGIN:VEVENT
DTSTART;TZID=Australia/Sydney:20260619T080000
DTEND;TZID=Australia/Sydney:20260619T170000
DTSTAMP:20260425T225011
CREATED:20241113T020756Z
LAST-MODIFIED:20251216T012635Z
UID:10002286-1781856000-1781888400@www.nbcs.nsw.edu.au
SUMMARY:CSSA Secondary State Soccer Finals
DESCRIPTION:Winning Zone teams will qualify to play in the State Finals at Valentine Park on the following days: \nOPEN Boys State Finals – Friday 19 June\nOPEN Girls State Finals – Monday 22 June \n15&U Girls State Finals – Tuesday 28 July\n15&U Boys State Finals – Wednesday 29 July \nTrials for our school teams to play at Zone will be held in February 2025. Please see SOCCER TRIALS FOR OUR NBCS REPRESENTATIVE TEAMS
URL:https://www.nbcs.nsw.edu.au/event/cssa-secondary-state-soccer-finals/
LOCATION:Valentine Park\, 235-257 Meurants Ln\, Glenwood\, NSW\, 2768\, Australia
CATEGORIES:Secondary Soccer
END:VEVENT
BEGIN:VEVENT
DTSTART;VALUE=DATE:20260806
DTEND;VALUE=DATE:20260807
DTSTAMP:20260425T225011
CREATED:20250130T004321Z
LAST-MODIFIED:20251211T004621Z
UID:10001686-1785974400-1786060799@www.nbcs.nsw.edu.au
SUMMARY:Primary CSSA Netball Gala Day
DESCRIPTION:NBCS can enter one Years 3-4 Girls’ Team\,  one Years 5-6 Girls’ Team and one Years 5-6 Open Boys’ Team into the CSSA State Gala Day. \nStudents will be selected throughout Term 2 PISA Netball. The Open Boys’ Team will trial for selection prior to the gala day (TBA). \nPlease see the CSSA website for more information.
URL:https://www.nbcs.nsw.edu.au/event/cssa-girls-state-netball-gala-day/
LOCATION:Jamison Park Netball Courts\, York Rd\, Penrith\, NSW\, 2750\, Australia
CATEGORIES:Primary Netball
END:VEVENT
BEGIN:VEVENT
DTSTART;VALUE=DATE:20260812
DTEND;VALUE=DATE:20260813
DTSTAMP:20260425T225011
CREATED:20211130T011929Z
LAST-MODIFIED:20251211T010635Z
UID:10001688-1786492800-1786579199@www.nbcs.nsw.edu.au
SUMMARY:Primary CSSA Mixed Oztag Gala Day
DESCRIPTION:NBCS can send one mixed Yr3-4 and one mixed Yr 5-6 team to play in a gala day against other CSSA schools. \nTeams will be selected in Term 3 (TBA). \nPlease view the CSSA Website for more information.
URL:https://www.nbcs.nsw.edu.au/event/cssa-mixed-oztag-gala-day/
LOCATION:The Kingsway Playing Fields\, The Kingsway Playing Fields\, The Kingsway\, Werrington\, NSW\, 2747\, Australia
CATEGORIES:Primary Oztag
END:VEVENT
BEGIN:VEVENT
DTSTART;VALUE=DATE:20260821
DTEND;VALUE=DATE:20260822
DTSTAMP:20260425T225011
CREATED:20211126T002959Z
LAST-MODIFIED:20251209T020748Z
UID:10002029-1787270400-1787356799@www.nbcs.nsw.edu.au
SUMMARY:Primary CSSA State Athletics Carnival
DESCRIPTION:Students who have placed in the top 3 (track) or top 2 (field – plus potential 3rd if they meet qualifying distance – see link HERE) at the Zone Athletics Carnival are eligible for the CSSA Carnival. \nIf students place 1st\, 2nd\, or 3rd at the CSSA State Athletics Championships in a track or field event they will qualify for the CIS State Athletics Championships. \nFor CSSA records and program\, please see the CSSA website. \nFor previous results and photo galleries\, please see below: \n2025 CSSA Primary Athletics Results\n2025 CSSA Primary Athletics Photo Gallery \n2024 CSSA Primary Athletics Results\n2024 CSSA Primary Athletics Photo Gallery \n2023 CSSA Primary Athletics Results\n2023 CSSA Primary Athletics Photo Gallery \n2022 Primary CSSA Athletics Photo Gallery\n2022 Primary CSSA Program and Records \n2019 Primary CSSA State Athletics Results\n2019 Primary CSSA State Athletics Photo Gallery \n  \nFor more information\, view the CSSA Website – Athletics
URL:https://www.nbcs.nsw.edu.au/event/cssa-state-athletics-championships-3/
LOCATION:Blacktown Athletics Centre\, Eastern Road\, Rooty Hills\, NSW\, 2766\, Australia
CATEGORIES:Primary Athletics
END:VEVENT
BEGIN:VEVENT
DTSTART;VALUE=DATE:20260909
DTEND;VALUE=DATE:20260910
DTSTAMP:20260425T225011
CREATED:20211111T030521Z
LAST-MODIFIED:20251209T015421Z
UID:10001635-1788912000-1788998399@www.nbcs.nsw.edu.au
SUMMARY:Secondary CSSA OPEN State Basketball Finals
DESCRIPTION:Winning teams from Zone or by Invitation will attend. Our teams will be notified after the Zone Gala Day if successful.
URL:https://www.nbcs.nsw.edu.au/event/cssa-state-basketball-finals/
LOCATION:Penrith Valley Regional Sports Centre\, Herbert St\, Cambridge Park\, NSW\, 2747\, Australia
CATEGORIES:Secondary Basketball
END:VEVENT
BEGIN:VEVENT
DTSTART;VALUE=DATE:20260918
DTEND;VALUE=DATE:20260919
DTSTAMP:20260425T225011
CREATED:20240317T212400Z
LAST-MODIFIED:20251209T015601Z
UID:10002253-1789689600-1789775999@www.nbcs.nsw.edu.au
SUMMARY:Secondary CSSA 15&U State Basketball Finals
DESCRIPTION:Winning teams from Zone or by Invitation will attend. Our teams will be notified after the Zone Gala Day if successful.
URL:https://www.nbcs.nsw.edu.au/event/secondary-cssa-15u-state-basketball-finals/
LOCATION:Penrith Valley Regional Sports Centre\, Herbert St\, Cambridge Park\, NSW\, 2747\, Australia
CATEGORIES:Secondary Basketball
END:VEVENT
BEGIN:VEVENT
DTSTART;VALUE=DATE:20261014
DTEND;VALUE=DATE:20261015
DTSTAMP:20260425T225011
CREATED:20221208T122448Z
LAST-MODIFIED:20251209T031233Z
UID:10001796-1791936000-1792022399@www.nbcs.nsw.edu.au
SUMMARY:Seconday CSSA Open Girls Futsal Gala Day
DESCRIPTION:We will be sending an Open Girls Team to the Gala Day. \nOPEN Girls trial will take place on Monday 15 September in the CSC at lunchtime. \nNBCS Futsal Trials REGISTRATION FORM. You must register and attend the trial to be considered. \nNBCS Team List – Announced after the trial \nShould your child be selected\, there is a cost of $30 per player\, this will be billed to your Term 4 Ancillary Charges. \nFor additional information including format and rules please see the CSSA Website \n___________________________________________________________________________________________________________\nNB\nPlease read through the NBCS Sport Code Of Conduct before representing our school at any level. \n 
URL:https://www.nbcs.nsw.edu.au/event/cssa-open-futsal-gala-day-2-2/
LOCATION:Hawkesbury Indoor Stadium\, 16 Stewart St\, South Windsor\, NSW\, 2756\, Australia
CATEGORIES:Secondary Futsal
END:VEVENT
BEGIN:VEVENT
DTSTART;VALUE=DATE:20261015
DTEND;VALUE=DATE:20261016
DTSTAMP:20260425T225011
CREATED:20211116T004606Z
LAST-MODIFIED:20251209T031447Z
UID:10001999-1792022400-1792108799@www.nbcs.nsw.edu.au
SUMMARY:Secondary CSSA OPEN Boys Futsal Gala Day
DESCRIPTION:We will be sending an OPEN Boys Team to the Gala Day. \nOPEN Boys trial will take place on Wednesday 16 September in the CSC at lunchtime. \nNBCS Futsal Trials – REGISTRATION FORM. You must register and attend the trial to be considered. \nNBCS Team List – Announced after the trial. \nShould your child be selected\, there is a cost of $30 per player\, this will be billed to your Term 4 Ancillary Charges. \nFor additional information including format and rules please see the CSSA Website \n___________________________________________________________________________________________________________\nNB\nPlease read through the NBCS Sport Code Of Conduct before representing our school at any level.
URL:https://www.nbcs.nsw.edu.au/event/cssa-15u-futsal-gala-day/
LOCATION:Hawkesbury Indoor Stadium\, 16 Stewart St\, South Windsor\, NSW\, 2756\, Australia
CATEGORIES:Secondary Futsal
END:VEVENT
BEGIN:VEVENT
DTSTART;VALUE=DATE:20261019
DTEND;VALUE=DATE:20261020
DTSTAMP:20260425T225011
CREATED:20211126T022323Z
LAST-MODIFIED:20251209T032505Z
UID:10002036-1792368000-1792454399@www.nbcs.nsw.edu.au
SUMMARY:Primary Year 5-6 Basketball Gala Days
DESCRIPTION:Students will trial for this team (one boys’ team and one girls’ team) at the end of Term 3 (TBC) and if selected will represent NBCS at the Zone CSSA Basketball Gala Day (19/10/26 – date TBC). Students will play against North Met schools and if the team is successful in winning this gala day\, they will advance to the CSSA Basketball Gala Day in Penrith (Monday 9 November). \nYear 5-6 CSSA Basketball Information Note – Emailed to families once the team is announced. \nFor more information please view the CSSA website.
URL:https://www.nbcs.nsw.edu.au/event/year-5-6-basketball-gala-day/
LOCATION:Hills Basketball Stadium\, Caterson Drive\, Castle Hill\, NSW\, 2154\, Australia
CATEGORIES:Primary Basketball
END:VEVENT
BEGIN:VEVENT
DTSTART;VALUE=DATE:20261027
DTEND;VALUE=DATE:20261028
DTSTAMP:20260425T225011
CREATED:20211130T050803Z
LAST-MODIFIED:20251209T040107Z
UID:10002054-1793059200-1793145599@www.nbcs.nsw.edu.au
SUMMARY:Primary CSSA Tennis Gala Day (also CIS trials for 2027)
DESCRIPTION:This competition is for singles matches only. Students play against other students from CSSA schools in attempt to win Junior or Senior champion. Their points also tally towards an overall champion school if schools enter 4 or more tennis players. \nStudents in Year 3-5 will have the opportunity to be selected at the CSSA Gala Day for the CIS Trials the following year. These students are generally students who have tennis experience. \nTeams: Junior (Year 3-4 Boys); Junior (Year 3-4 Girls); Senior (Year 5-6 Boys); Senior (Year 5-6 Girls). \nFor more information\, please view the CSSA website.
URL:https://www.nbcs.nsw.edu.au/event/cssa-tennis-gala-day-2/
LOCATION:Parramatta City Tennis\, Barton St\, North Parramatta NSW 2151\, North Parramatta\, NSW\, 2151\, Australia
CATEGORIES:Primary Tennis
END:VEVENT
BEGIN:VEVENT
DTSTART;TZID=Australia/Sydney:20261030T083000
DTEND;TZID=Australia/Sydney:20261030T160000
DTSTAMP:20260425T225011
CREATED:20241015T030536Z
LAST-MODIFIED:20251209T021642Z
UID:10002264-1793349000-1793376000@www.nbcs.nsw.edu.au
SUMMARY:Girls Super 8's Gala Day
DESCRIPTION:After a successful first year in 2024 where the girls made the final we will be entering this competition again in 2026.\nIf your daughter has any cricket experience please REGISTER HERE. \nWe will hold a trial if we require it\, otherwise we will email you with the team and training dates in preparation for the Gala Day in October. \nNBCS Girls Team – Announced after the trial \n___________________________________________________________________________________________________________\nNB\nPlease read through the NBCS Sport Code Of Conduct before representing our school at any level. \n 
URL:https://www.nbcs.nsw.edu.au/event/girls-super-8s-gala-day/
LOCATION:Jamieson Park\, Penrith\, Jamieson Rd\, Penrith\, NSW\, 2750\, Australia
CATEGORIES:Secondary Cricket
END:VEVENT
BEGIN:VEVENT
DTSTART;VALUE=DATE:20261120
DTEND;VALUE=DATE:20261121
DTSTAMP:20260425T225011
CREATED:20230202T033925Z
LAST-MODIFIED:20251216T023756Z
UID:10001943-1795132800-1795219199@www.nbcs.nsw.edu.au
SUMMARY:Secondary CSSA State Triathlon
DESCRIPTION:Students can compete as an individual and /or in a team event. \nSECONDARY TRIATHLON – Individual Event\nJunior (12-14yrs)               Girls/Boys 250m SWIM 5Km CYCLE 2Km RUN\nIntermediate (15-16yrs)     Girls/Boys 300m SWIM 10Km CYCLE 3Km RUN\nSenior Girls (17-18+yrs)    Girls 300m SWIM 10Km CYCLE 3Km RUN\nSenior Boys (17-18+yrs)    Boys 400m SWIM 15Km CYCLE 4Km RUN \nSECONDARY TRIATHLON – Teams Event\nJunior (12-14yrs)              Girls/Boys 250m SWIM 10Km CYCLE 3Km RUN\nIntermediate (15-16yrs)    Girls/Boys 300m SWIM 10Km CYCLE 3Km RUN\nSenior Girls (17-18+yrs)   Girls 300m SWIM 10Km CYCLE 3Km RUN\nSenior Boys (17-18+yrs)   Boys 400m SWIM 15Km CYCLE 4Km RUN \nCSSA EVENT DETAIL – Including Program and Maps \nPlease REGISTER HERE if you would like to compete. Registrations for this event will close on Friday 6 November. \nTransport: Make own way there or NBCS Bus if number of competitors is in excess of 20. Own bikes must be transported by private transport \n  \n___________________________________________________________________________________________________________\nNB\nPlease read through the NBCS Sport Code Of Conduct before representing our school at any level.
URL:https://www.nbcs.nsw.edu.au/event/cssa-state-triathlon-2-2/
LOCATION:International Regatta Centre\, Penrith\, 2253 Castlereagh Road\, Penrith\, NSW\, 2750\, Australia
CATEGORIES:Secondary Triathlon
END:VEVENT
END:VCALENDAR