BEGIN:VCALENDAR
VERSION:2.0
PRODID:-//Northern Beaches Christian School - ECPv6.15.17.1//NONSGML v1.0//EN
CALSCALE:GREGORIAN
METHOD:PUBLISH
X-ORIGINAL-URL:https://www.nbcs.nsw.edu.au
X-WR-CALDESC:Events for Northern Beaches Christian School
REFRESH-INTERVAL;VALUE=DURATION:PT1H
X-Robots-Tag:noindex
X-PUBLISHED-TTL:PT1H
BEGIN:VTIMEZONE
TZID:Australia/Sydney
BEGIN:STANDARD
TZOFFSETFROM:+1100
TZOFFSETTO:+1000
TZNAME:AEST
DTSTART:20250405T160000
END:STANDARD
BEGIN:DAYLIGHT
TZOFFSETFROM:+1000
TZOFFSETTO:+1100
TZNAME:AEDT
DTSTART:20251004T160000
END:DAYLIGHT
BEGIN:STANDARD
TZOFFSETFROM:+1100
TZOFFSETTO:+1000
TZNAME:AEST
DTSTART:20260404T160000
END:STANDARD
BEGIN:DAYLIGHT
TZOFFSETFROM:+1000
TZOFFSETTO:+1100
TZNAME:AEDT
DTSTART:20261003T160000
END:DAYLIGHT
BEGIN:STANDARD
TZOFFSETFROM:+1100
TZOFFSETTO:+1000
TZNAME:AEST
DTSTART:20270403T160000
END:STANDARD
BEGIN:DAYLIGHT
TZOFFSETFROM:+1000
TZOFFSETTO:+1100
TZNAME:AEDT
DTSTART:20271002T160000
END:DAYLIGHT
END:VTIMEZONE
BEGIN:VEVENT
DTSTART;VALUE=DATE:20260915
DTEND;VALUE=DATE:20260917
DTSTAMP:20260425T133214
CREATED:20240130T065327Z
LAST-MODIFIED:20251209T040406Z
UID:10002246-1789430400-1789603199@www.nbcs.nsw.edu.au
SUMMARY:Secondary Ocean Surf Survival Award
DESCRIPTION:Parent Portal\n\n			\n				\n\n					\n						Username\n						\n					 \n\n					\n						Password\n						\n					 \n\n					\n						\n						Remember me\n					 \n\n					\n						\n							Lost your password?
URL:https://www.nbcs.nsw.edu.au/event/secondary-ocean-surf-survival-award-2/
LOCATION:RRR and Manly Beach\, 1 Echunga Rd\, Terrey Hills\, NSW\, 2084\, Australia
CATEGORIES:Secondary OSSA,Secondary School Sport
END:VEVENT
END:VCALENDAR