BEGIN:VCALENDAR
VERSION:2.0
PRODID:-//Northern Beaches Christian School - ECPv6.15.17.1//NONSGML v1.0//EN
CALSCALE:GREGORIAN
METHOD:PUBLISH
X-WR-CALNAME:Northern Beaches Christian School
X-ORIGINAL-URL:https://www.nbcs.nsw.edu.au
X-WR-CALDESC:Events for Northern Beaches Christian School
REFRESH-INTERVAL;VALUE=DURATION:PT1H
X-Robots-Tag:noindex
X-PUBLISHED-TTL:PT1H
BEGIN:VTIMEZONE
TZID:UTC
BEGIN:STANDARD
TZOFFSETFROM:+0000
TZOFFSETTO:+0000
TZNAME:UTC
DTSTART:20250101T000000
END:STANDARD
END:VTIMEZONE
BEGIN:VTIMEZONE
TZID:Australia/Sydney
BEGIN:STANDARD
TZOFFSETFROM:+1100
TZOFFSETTO:+1000
TZNAME:AEST
DTSTART:20250405T160000
END:STANDARD
BEGIN:DAYLIGHT
TZOFFSETFROM:+1000
TZOFFSETTO:+1100
TZNAME:AEDT
DTSTART:20251004T160000
END:DAYLIGHT
BEGIN:STANDARD
TZOFFSETFROM:+1100
TZOFFSETTO:+1000
TZNAME:AEST
DTSTART:20260404T160000
END:STANDARD
BEGIN:DAYLIGHT
TZOFFSETFROM:+1000
TZOFFSETTO:+1100
TZNAME:AEDT
DTSTART:20261003T160000
END:DAYLIGHT
BEGIN:STANDARD
TZOFFSETFROM:+1100
TZOFFSETTO:+1000
TZNAME:AEST
DTSTART:20270403T160000
END:STANDARD
BEGIN:DAYLIGHT
TZOFFSETFROM:+1000
TZOFFSETTO:+1100
TZNAME:AEDT
DTSTART:20271002T160000
END:DAYLIGHT
END:VTIMEZONE
BEGIN:VEVENT
DTSTART;TZID=UTC:20260202T163000
DTEND;TZID=UTC:20261209T183000
DTSTAMP:20260425T031453
CREATED:20240123T012656Z
LAST-MODIFIED:20251209T023256Z
UID:10001799-1770049800-1796841000@www.nbcs.nsw.edu.au
SUMMARY:Primary Co-Curricular Basketball Teams
DESCRIPTION:NBCS enters teams into the Manly Warringah Basketball Competition at NBISC (Warriewood). These competitions run on various afternoons\, depending on age groups\, and will run for an entire semester. Parents are required to transport their child to and from the competition\, and also to nominate a parent manager for their team. Students will train at NBCS one morning a week from 7:30am-8:30am (day TBC) with a designated coach. \nIf you would like your child to be considered in one of these teams\, please email lmallard@nbcs.nsw.edu.au to express interest. These teams are decided at the end of the semester to play in the following semester competitions.
URL:https://www.nbcs.nsw.edu.au/event/primary-co-curricular-basketball-teams/
LOCATION:Northern Beaches Indoor Sports Centre\, Jacksons Rd\, Warriewood\, NSW\, 2102\, Australia
CATEGORIES:Primary Basketball
END:VEVENT
BEGIN:VEVENT
DTSTART;TZID=Australia/Sydney:20260216T000000
DTEND;TZID=Australia/Sydney:20261204T235900
DTSTAMP:20260425T031453
CREATED:20251209T010631Z
LAST-MODIFIED:20260130T013830Z
UID:10002305-1771200000-1796428740@www.nbcs.nsw.edu.au
SUMMARY:Secondary Manly Warringah Basketball Competition
DESCRIPTION:This competition is run over two semesters. Each team has an assigned qualified coach and parent team manager. \nSemester 1 – February to June\nSemester 2 – July to Early December. \nDetailed information will be emailed to all families at NBCS in Years 7-11 in late November 2024 with everything they need to know for the 2025 competition. \nMWBA Draw\nNBCS Teams \n______________________________________________________________________________________________________________________________________________________\nNB\nAll players must be registered with MWBA. Please register on the MWBA Website\, by clicking on the MEMBERS AREA\, orange box located in the top right-hand corner. \nInsurance is to be paid through your registration on their website or you can call them on 9913 3622. Insurance is $120 and valid for 12 months from the payment date. \nTeam cost is $460 per semester which covers the competition entry fee\, coaching at school and the game\, equipment and administration costs. This is added to your Term 2 and 3 Ancillary Fees. \nPlayers require an NBCS uniform: shorts $40 and reversible singlet $53. This will be organised through the NBCS Sports Office when your child first joins. Should you require a new uniform at any time\, please email secondarysport@nbcs.nsw.edu.au. \nAny changes to teams between semester competitions will be at the discretion of the coach. \nPlease read through the NBCS Sport Code Of Conduct before representing our school at any level.
URL:https://www.nbcs.nsw.edu.au/event/secondary-manly-warringah-basketball-competition/
LOCATION:Northern Beaches Indoor Sports Centre\, Jacksons Rd\, Warriewood\, NSW\, 2102\, Australia
CATEGORIES:Secondary Basketball
END:VEVENT
BEGIN:VEVENT
DTSTART;VALUE=DATE:20260423
DTEND;VALUE=DATE:20260626
DTSTAMP:20260425T031453
CREATED:20221115T000113Z
LAST-MODIFIED:20260325T014750Z
UID:10002145-1776902400-1782431999@www.nbcs.nsw.edu.au
SUMMARY:Secondary School Sport Term 2\, 2026
DESCRIPTION:In Term 2 we will be offering a variety of sports here at school students can participate  in including Yoga\, Strength and Conditioning in our school gym\, Bushwalking in the surrounding National Park trails and MTB. Students will have the opportunity to head offsite to play multi-racquet sports\, golf\, participate in non-contact boxing or Tennis/Pickle Ball\, improve their basketball skills and match fitness in our basketball academy\, try trampolining as well as skateboarding or scootering! \nTerm 2 Sport Choices are emailed to parents in Week 5 of Term 1. \nWAIVERS\nFor those selecting Trampolining\, you must complete the Aussie Gems Waiver before the first session.\nFor those selecting Rock Climbing\, you are required to complete the Rock House Waiver before the first session.\nFor those selecting Equestrian\, you are required to complete the NBCS & MC Equestrian Form 2 weeks before the sessions commence. \nYear 7 & 8 Sports for Term 2\, 2026 can be found on your COMPASS Newsfeed from 3pm Thursday 12 March. \nThursday sport for Year 7/8 starts on Thursday 23 April 2026\, every Week A.\nYear 7 & 8 Thursday Sport – All you need to know!  \nYear 9 & 10 Sports for Term 2\, 2026 can be found on your COMPASS Newsfeed from 3pm Thursday 12 March. \nThursday sport for Year 9/10 starts on Thursday 30 April 2026\, every Week B.\nYear 9 & 10 Thursday Sport – All you need to know! 
URL:https://www.nbcs.nsw.edu.au/event/secondary-school-sport-term-2-2024/
CATEGORIES:Secondary School Sport
END:VEVENT
BEGIN:VEVENT
DTSTART;VALUE=DATE:20260427
DTEND;VALUE=DATE:20260429
DTSTAMP:20260425T031453
CREATED:20211201T012824Z
LAST-MODIFIED:20251211T021255Z
UID:10002064-1777248000-1777420799@www.nbcs.nsw.edu.au
SUMMARY:Primary PSSA All State Swimming and Diving Championships
DESCRIPTION:Students who qualify at the NSW CIS Swimming and Diving Championships will compete at the NSW All Schools (PSSA) Swimming and Diving Championships. \nPlease note that this carnival runs over 2 days (Monday 27 – Tuesday 28 April). Whilst the swimming will run over 2 days\, the Diving will be on one day (TBC). \nFor more information\, please view the PSSA website. \n\nState-Level Events (April):\n\nNSWPSSA Swimming Championships: April 27-28 at SOPAC (Sydney Olympic Park Aquatic Centre).\n\n\nNational Level (Nov):\n\nSchool Sport Australia Swimming Championships: Nov 21-25 (Venue TBC). 
URL:https://www.nbcs.nsw.edu.au/event/pssa-all-state-swimming-and-diving-championships/
LOCATION:Sydney Olympic Park Aquatic Centre\, Olympic Blvd\, Sydney Olympic Park\, NSW\, 2127\, Australia
CATEGORIES:Primary Swimming
END:VEVENT
BEGIN:VEVENT
DTSTART;VALUE=DATE:20260427
DTEND;VALUE=DATE:20260626
DTSTAMP:20260425T031453
CREATED:20230215T044527Z
LAST-MODIFIED:20260420T065821Z
UID:10001839-1777248000-1782431999@www.nbcs.nsw.edu.au
SUMMARY:Secondary Peninsula Cup Term 2 Soccer Competition (Boys)
DESCRIPTION:NBCS Yr 7/8 Soccer Teams\nNBCS Yr 9/10 Soccer Teams \n________________________________________________________________________________________________________________________ \nPlease REGISTER HERE if you would like to trial. You MUST register and attend the trial to be considered. \n14&U (Years 7/8) play every Thursday afternoon from 4pm – 5pm in Term 2\n16&U (Years 9/10) play every Tuesday afternoon from 4pm – 5pm in Term 2\nOPEN (Years 11/12) play every Wednesday afternoon from 4pm – 5pm in Term 2.\n_________________________________________________________________________________________________________________________ \nNB\nThere is a cost of $75 that will be added to your Term 2 Ancillary Charges. If weather has an impact on the competition\, this will be reduced.\nPlease read through the NBCS Sport Code Of Conduct before representing our school at any level.
URL:https://www.nbcs.nsw.edu.au/event/peninsula-cup-weekly-competition-boys-2-3/
LOCATION:Various Northern Beaches Ovals\, Australia
CATEGORIES:Secondary Soccer
END:VEVENT
BEGIN:VEVENT
DTSTART;VALUE=DATE:20260427
DTEND;VALUE=DATE:20260918
DTSTAMP:20260425T031453
CREATED:20230505T023110Z
LAST-MODIFIED:20251211T024903Z
UID:10002191-1777248000-1789689599@www.nbcs.nsw.edu.au
SUMMARY:Peninsula Cup Rugby Competition
DESCRIPTION:OPEN’s play every Monday afternoon from 4pm-5pm in Term 2.\nPlease REGISTER HERE by Sunday 8 March. \n14’s play every Thursday afternoon from 4pm-5pm in Term 3.\n16’s play every Monday afternoon from 4pm-5pm in Term 3.\nPlease REGISTER HERE by Sunday 25 May.
URL:https://www.nbcs.nsw.edu.au/event/peninsula-cup-weekly-comp-3/
LOCATION:Various Northern Beaches Ovals\, Australia
CATEGORIES:Secondary Rugby Union
END:VEVENT
BEGIN:VEVENT
DTSTART;VALUE=DATE:20260428
DTEND;VALUE=DATE:20260624
DTSTAMP:20260425T031453
CREATED:20250215T041042Z
LAST-MODIFIED:20260206T040436Z
UID:10001854-1777334400-1782259199@www.nbcs.nsw.edu.au
SUMMARY:Secondary Peninsula Cup Term 2 Netball Competition
DESCRIPTION:Please REGISTER HERE by Sunday 15 February if you would like to try for one of our teams. All students wishing to trial must register and attend the trial to be considered. \nThis competition is played every Tuesday in Term 2 at Curl Curl Netball Courts. \nNBCS Peninsula Cup Netball Teams – Announced after trials.\nPeninsula Cup Netball Draws – Released Late Term 1\nMWNA Netball Court Map \nTransport: NBCS school bus or car pool to the venue\, girls are to be collected from the courts at 5pm \nTeams: Year 7\, Year 8 & 9 and Years 10 – 12\n————————————————————————————————————————————————————————- \nNB\nPlease read through the NBCS Sport Code Of Conduct before representing our school at any level.\nThere is a cost of $70 per player\, this will be billed to your Term 2 Ancillary Charges.
URL:https://www.nbcs.nsw.edu.au/event/peninsula-cup-weekly-competition-3/
LOCATION:John Fisher Park and Curl Curl Netball Court\, Abbott Rd\, Curl Curl\, Australia
CATEGORIES:Secondary Netball
END:VEVENT
BEGIN:VEVENT
DTSTART;TZID=Australia/Sydney:20260429T080000
DTEND;TZID=Australia/Sydney:20260429T170000
DTSTAMP:20260425T031453
CREATED:20251203T030719Z
LAST-MODIFIED:20260216T215021Z
UID:10002299-1777449600-1777482000@www.nbcs.nsw.edu.au
SUMMARY:CIS AFL 14&U Boys and Girls Trials
DESCRIPTION:CIS will hold trials to select one 14&U Girls and one 14&U Boys CIS AFL Team to compete at the NSW All Schools Championships. \nThis is for players of a high standard. Please REGISTER HERE by Friday 27 March. Please note\, CIS does not accept late entries. There is a cost of $37.89 that will be billed to your Term 2 Ancillary Fees. \nFor detailed trial information\, please see the CIS WEBSITE.  \n___________________________________________________________________________________________________________\nNB\nThere are no school competitions available for us to enter a school team. \nIf selected\, please send any communication you receive from CIS to secondarysport@nbcs.nsw.edu.au\, this will ensure we are able to support our players and ensure they have sport exemption when you are away from school training or competing. \nPlease read through the NBCS Sport Code Of Conduct before representing our school at any level. \n 
URL:https://www.nbcs.nsw.edu.au/event/cis-afl-16u-girls-trials-3-2/
LOCATION:Blacktown International Sports Park\, Eastern Rd\, Rooty Hill\, NSW\, 2766\, Australia
CATEGORIES:Secondary AFL
END:VEVENT
END:VCALENDAR